BEGIN:VCALENDAR
VERSION:2.0
PRODID:-//CCARA - ECPv6.15.12.2//NONSGML v1.0//EN
CALSCALE:GREGORIAN
METHOD:PUBLISH
X-WR-CALNAME:CCARA
X-ORIGINAL-URL:https://ccara.net
X-WR-CALDESC:Events for CCARA
REFRESH-INTERVAL;VALUE=DURATION:PT1H
X-Robots-Tag:noindex
X-PUBLISHED-TTL:PT1H
BEGIN:VTIMEZONE
TZID:America/New_York
BEGIN:DAYLIGHT
TZOFFSETFROM:-0500
TZOFFSETTO:-0400
TZNAME:EDT
DTSTART:20240310T070000
END:DAYLIGHT
BEGIN:STANDARD
TZOFFSETFROM:-0400
TZOFFSETTO:-0500
TZNAME:EST
DTSTART:20241103T060000
END:STANDARD
BEGIN:DAYLIGHT
TZOFFSETFROM:-0500
TZOFFSETTO:-0400
TZNAME:EDT
DTSTART:20250309T070000
END:DAYLIGHT
BEGIN:STANDARD
TZOFFSETFROM:-0400
TZOFFSETTO:-0500
TZNAME:EST
DTSTART:20251102T060000
END:STANDARD
BEGIN:DAYLIGHT
TZOFFSETFROM:-0500
TZOFFSETTO:-0400
TZNAME:EDT
DTSTART:20260308T070000
END:DAYLIGHT
BEGIN:STANDARD
TZOFFSETFROM:-0400
TZOFFSETTO:-0500
TZNAME:EST
DTSTART:20261101T060000
END:STANDARD
END:VTIMEZONE
BEGIN:VEVENT
DTSTART;TZID=America/New_York:20250329T110000
DTEND;TZID=America/New_York:20250329T160000
DTSTAMP:20260422T081243
CREATED:20250212T182001Z
LAST-MODIFIED:20250320T025741Z
UID:1782-1743246000-1743264000@ccara.net
SUMMARY:Hangout/ Build
DESCRIPTION:This is just a monthly get together to hangout.  Bring whatever project your are currently working on and be willing to show and tell.  Just have a good time.
URL:https://ccara.net/event/hangout-build/
LOCATION:Foster J Boyd Regional Cancer Center\, 31 Farquhar Ave\, Wilmington\, OH\, 45177\, United States
END:VEVENT
END:VCALENDAR