BEGIN:VCALENDAR
VERSION:2.0
PRODID:-//CCARA - ECPv6.15.12.2//NONSGML v1.0//EN
CALSCALE:GREGORIAN
METHOD:PUBLISH
X-ORIGINAL-URL:https://ccara.net
X-WR-CALDESC:Events for CCARA
REFRESH-INTERVAL;VALUE=DURATION:PT1H
X-Robots-Tag:noindex
X-PUBLISHED-TTL:PT1H
BEGIN:VTIMEZONE
TZID:America/New_York
BEGIN:DAYLIGHT
TZOFFSETFROM:-0500
TZOFFSETTO:-0400
TZNAME:EDT
DTSTART:20230312T070000
END:DAYLIGHT
BEGIN:STANDARD
TZOFFSETFROM:-0400
TZOFFSETTO:-0500
TZNAME:EST
DTSTART:20231105T060000
END:STANDARD
BEGIN:DAYLIGHT
TZOFFSETFROM:-0500
TZOFFSETTO:-0400
TZNAME:EDT
DTSTART:20240310T070000
END:DAYLIGHT
BEGIN:STANDARD
TZOFFSETFROM:-0400
TZOFFSETTO:-0500
TZNAME:EST
DTSTART:20241103T060000
END:STANDARD
BEGIN:DAYLIGHT
TZOFFSETFROM:-0500
TZOFFSETTO:-0400
TZNAME:EDT
DTSTART:20250309T070000
END:DAYLIGHT
BEGIN:STANDARD
TZOFFSETFROM:-0400
TZOFFSETTO:-0500
TZNAME:EST
DTSTART:20251102T060000
END:STANDARD
END:VTIMEZONE
BEGIN:VEVENT
DTSTART;TZID=America/New_York:20240921T150000
DTEND;TZID=America/New_York:20240922T130000
DTSTAMP:20260422T175835
CREATED:20230917T203124Z
LAST-MODIFIED:20240828T154311Z
UID:1515-1726930800-1727010000@ccara.net
SUMMARY:POTA Campout
DESCRIPTION:Join us for an overnight Parks on the air\, or POTA event at The Pine Tree Group Camp at Cowan Lake it is a primitive group “tent only” camp area with stone fire ring\, charcoal grill\, and picnic tables. Bring a dish to share. Located within walking distance to pit latrine and near the youth fishing pond\, fishing pier\, kayak launch\, and Emerald Woods trailhead. There is no potable water available. Bring your own water chair and comfort items. Accommodates up to 50 people max. Take SR 350 to Yankee Road. Follow Yankee and go left at the fork. The parking lot is on the right.
URL:https://ccara.net/event/pota-campout/
LOCATION:Cowan Lake State Park – Pine Tree Group Camp\, Yankee Rd\, Wilmington\, OH\, 45177\, United States
END:VEVENT
END:VCALENDAR