BEGIN:VCALENDAR
VERSION:2.0
PRODID:-//CCARA - ECPv6.15.12.2//NONSGML v1.0//EN
CALSCALE:GREGORIAN
METHOD:PUBLISH
X-ORIGINAL-URL:https://ccara.net
X-WR-CALDESC:Events for CCARA
REFRESH-INTERVAL;VALUE=DURATION:PT1H
X-Robots-Tag:noindex
X-PUBLISHED-TTL:PT1H
BEGIN:VTIMEZONE
TZID:America/New_York
BEGIN:DAYLIGHT
TZOFFSETFROM:-0500
TZOFFSETTO:-0400
TZNAME:EDT
DTSTART:20210314T070000
END:DAYLIGHT
BEGIN:STANDARD
TZOFFSETFROM:-0400
TZOFFSETTO:-0500
TZNAME:EST
DTSTART:20211107T060000
END:STANDARD
BEGIN:DAYLIGHT
TZOFFSETFROM:-0500
TZOFFSETTO:-0400
TZNAME:EDT
DTSTART:20220313T070000
END:DAYLIGHT
BEGIN:STANDARD
TZOFFSETFROM:-0400
TZOFFSETTO:-0500
TZNAME:EST
DTSTART:20221106T060000
END:STANDARD
BEGIN:DAYLIGHT
TZOFFSETFROM:-0500
TZOFFSETTO:-0400
TZNAME:EDT
DTSTART:20230312T070000
END:DAYLIGHT
BEGIN:STANDARD
TZOFFSETFROM:-0400
TZOFFSETTO:-0500
TZNAME:EST
DTSTART:20231105T060000
END:STANDARD
END:VTIMEZONE
BEGIN:VEVENT
DTSTART;TZID=America/New_York:20221208T183000
DTEND;TZID=America/New_York:20221208T203000
DTSTAMP:20260425T194450
CREATED:20221108T163726Z
LAST-MODIFIED:20221108T163848Z
UID:1394-1670524200-1670531400@ccara.net
SUMMARY:Christmas Party
DESCRIPTION:We will once again be having our annual Christmas party after the covid absence.  It will be a carry-in/potluck as has been done in the past.  We will also be voting on and announcing new officers.
URL:https://ccara.net/event/christmas-party/
LOCATION:Foster J Boyd Regional Cancer Center\, 31 Farquhar Ave\, Wilmington\, OH\, 45177\, United States
END:VEVENT
END:VCALENDAR